BEGIN:VCALENDAR
PRODID:-//vBulletin 6//EN
VERSION:2.0
CALSCALE:GREGORIAN
BEGIN:VEVENT
UID:e9ba1723-841b-4e44-afd6-fd0bd0ac2f8f
DTSTAMP:20260421T214608Z
SUMMARY:Crypto &amp\; Privacy CFP Closes
DESCRIPTION:The Crypto & Privacy Village will be returning for our 6th year
  at DEF CON 27!\nWhere: Celebrity 6 & 7 @ Planet Hollywood\n\nTL\;DR: Subm
 it by June 15th at https://cfp.cryptovillage.org/
URL:https://forum.defcon.org/node/227793
DTSTART;VALUE=DATE:20190615
END:VEVENT
END:VCALENDAR
