BEGIN:VCALENDAR
PRODID:-//vBulletin 6//EN
VERSION:2.0
CALSCALE:GREGORIAN
BEGIN:VEVENT
UID:cb32388c-8932-4926-bdc5-5ecf8e5d767f
DTSTAMP:20260420T134428Z
SUMMARY:Blue Team Viallge Call for Contests Closes
DESCRIPTION:Blue Team Village call for contests. We're looking for contests
  geared towards defensive security.\nhttps://www.blueteamvillage.org/submi
 t/call-for-contests
URL:https://forum.defcon.org/node/227862
DTSTART;VALUE=DATE:20190515
END:VEVENT
END:VCALENDAR
