BEGIN:VCALENDAR
PRODID:-//vBulletin 6//EN
VERSION:2.0
CALSCALE:GREGORIAN
BEGIN:VEVENT
UID:0a6dabec-d582-44b2-9a44-b25755c7c730
DTSTAMP:20260423T224447Z
SUMMARY:Creative Writing Short Story Contest closes
DESCRIPTION:Rules and submition information here:\nhttps://forum.defcon.org
 /node/227870\n \n\nThe theme this year is\, “Technology's Promise\,” a
  response to disorder and dystopia. This invites questioning what the Righ
 t Thing looks like\, what the best possible outcome would be if normal peo
 ple took action instead of standing idly by.
URL:https://forum.defcon.org/node/227872
DTSTART;VALUE=DATE:20190601
END:VEVENT
END:VCALENDAR
