BEGIN:VCALENDAR
PRODID:-//vBulletin 6//EN
VERSION:2.0
CALSCALE:GREGORIAN
BEGIN:VEVENT
UID:c18a4862-6a83-440e-9c46-a8f3b399d67e
DTSTAMP:20260422T135304Z
SUMMARY:SecKC Party
DESCRIPTION:Planet Hollywood\, London Club\, Friday August 9\, 2019\, 21:00
  to 02:00\nSecCK The World Again\nWhere: The London Club at Planet Hollywo
 od\n\n\n\nDJs: Keith Myers \, Archwisp\, Professor S\nSecKC\n    \nhttps:/
 /forum.defcon.org/node/228474
URL:https://forum.defcon.org/node/229132
DTSTART:20190810T060000Z
DTEND:20190810T100001Z
LOCATION:The London Club at Planet Hollywood
END:VEVENT
END:VCALENDAR
