BEGIN:VCALENDAR
PRODID:-//vBulletin 6//EN
VERSION:2.0
CALSCALE:GREGORIAN
BEGIN:VEVENT
UID:36026ea4-faef-4148-a5df-bcbc456e3d2f
DTSTAMP:20260423T205331Z
SUMMARY:DEF CON China 2.0 CFP closes February 3\, 2020
DESCRIPTION:
URL:https://forum.defcon.org/node/230276
DTSTART;VALUE=DATE:20200203
LOCATION:https://defcon.org/html/defcon-china-2/dc-cn-2-cfp.html
END:VEVENT
END:VCALENDAR
