BEGIN:VCALENDAR
PRODID:-//vBulletin 6//EN
VERSION:2.0
CALSCALE:GREGORIAN
BEGIN:VEVENT
UID:53f4617c-8677-407b-a4ac-cdf6085ca413
DTSTAMP:20260420T112809Z
SUMMARY:DEF CON 28 Art Contest is LIVE!
DESCRIPTION:ATTN: Art Makers of the DEF CON Community!\nWe’re bringing ba
 ck the Art Contest for DEF CON with a few fun twists. If you want in\, sha
 rpen up your crayons - the deadline is June 15\, 2020\, and it will be upo
 n us faster than you think.\n\nSubmissions should be mailed to pictures@de
 fcon.org.\n\nInfo and rules are here: https://defcon.org/html/defcon-28/dc
 -28-cfa.html\n\nWe can't wait to see what you create!
URL:https://forum.defcon.org/node/230940
DTSTART;VALUE=DATE:20200615
LOCATION:pictures@defcon.org
END:VEVENT
END:VCALENDAR
