BEGIN:VCALENDAR
PRODID:-//vBulletin 6//EN
VERSION:2.0
CALSCALE:GREGORIAN
BEGIN:VEVENT
UID:2f7a608f-0e12-4b07-bf0b-ea0be3cb698d
DTSTAMP:20260422T090815Z
SUMMARY:DC28 CFP close APRIL 1st.
DESCRIPTION:The DEF CON 28 CFP is LIVE!\n \n\nThe time has come to whip tha
 t idea into submission-ready shape - you have until May 1 and we can offer
  a lot more help if you don’t wait til the last minute.\n\nLet's light t
 his candle! \n  \nhttps://defcon.org/html/defcon-28/dc-28-cfp.html
URL:https://forum.defcon.org/node/230946
DTSTART;VALUE=DATE:20200430
LOCATION:https://defcon.org/html/defcon-28/dc-28-cfp.html
END:VEVENT
END:VCALENDAR
