BEGIN:VCALENDAR
PRODID:-//vBulletin 6//EN
VERSION:2.0
CALSCALE:GREGORIAN
BEGIN:VEVENT
UID:84d0be87-4cd4-429f-bc09-fd0fbf7897a5
DTSTAMP:20260420T200749Z
SUMMARY:Crypto Privacy Village CFP Closes June 20
DESCRIPTION:[/URL]\n \n\n\nPassionate about cryptography or privacy? Intere
 sted in helping people encrypt their lives? Have you worked on contact tra
 cing\, digital surveillance\, facial recognition or another topic very rel
 evant in our highly virtual age? Have a talk that’s better suited for a 
 niche audience? Submit YOUR proposal to the Crypto & Privacy Village Call 
 for Participation! ([URL="https://cfp.cryptovillage.org/"]cfp.cryptovillag
 e.org (filedata/fetch?id=232785&d=1556895545))\n\nPlease\, no sales pitche
 s. If you have a unique perspective related to your company’s products\,
  please make it as vendor-neutral as possible.\n\nLive talks will be recor
 ded (unless requested otherwise by the speaker).\nSubmission Deadline\nSub
 missions are due June 20\, 2020 at 11:59:59 PM PDT.\n\nSuggested Topics\n\
 n Anti-Facial Recognition\n Contact Tracing Privacy\n Other Health Privacy
 \n WFH Privacy Issues & Hacks\n Introductions & Overviews to cryptographic
  subfields (Crypto 101)\n Cryptanalysis\, side channels\, & implementation
 -specific attacks on crypto\n Algorithm- and protocol-level analysis of sp
 ecific crypto/privacy tools\n Post-quantum cryptography\n Spyware/Adware/S
 urveillance\n Secure messaging (messages\, email\, etc.)\n Hardware-based 
 crypto and hardware acceleration\n Useable cryptography (targeted/at-risk 
 populations\, the “reasonable” consumer)\n Cryptographic APIs\, open-s
 ource libraries\, implementations\, & standards\n Public-Key Infrastructur
 e\n Transport Layer Security/Web Security\n Authentication\n Policy/Law\n 
 Privacy By Design\n Privacy Engineering\n GDPR\n CCPA/CalPREA\n Up-and-com
 ing privacy laws (India/Brazil)\n Hacker con talks shouldn’t fit into ni
 ce\, tidy boxes\, so I’m doing something else\n How to Submit\n\nFor mor
 e information\, please visit our submissions site\, https://cfp.cryptovill
 age.org (https://cfp.cryptovillage.org/).
URL:https://forum.defcon.org/node/232783
DTSTART;VALUE=DATE:20200630
LOCATION:https://cfp.cryptovillage.org
END:VEVENT
END:VCALENDAR
