BEGIN:VCALENDAR
PRODID:-//vBulletin 6//EN
VERSION:2.0
CALSCALE:GREGORIAN
BEGIN:VEVENT
UID:bfa1afbe-ea5f-4db4-bfe1-699ff4f0f626
DTSTAMP:20260420T104253Z
SUMMARY:The Lock Bypass Village's Call for Exhibits Closes July 1st
DESCRIPTION:The Lock Bypass Village's Call for Exhibits\n\nOur Call for Exh
 ibits is now open! Do you have a cool display you want to show off at Lock
  Bypass Village? Do you have a physical security activity you want to see 
 or run at our village? We want to hear from you!\n\nVisit us at bypassvill
 age.org/callfor/#exhibits or email exhibits @bypassvillage.org for more in
 formation and to apply!\n\nWe'll be starting to make selections on July 1s
 t\, 2020\, so get your applications in by then!
URL:https://forum.defcon.org/node/232802
DTSTART;VALUE=DATE:20200701
LOCATION:https://bypassvillage.org/callfor/#exhibits
END:VEVENT
END:VCALENDAR
