BEGIN:VCALENDAR
PRODID:-//vBulletin 6//EN
VERSION:2.0
CALSCALE:GREGORIAN
BEGIN:VEVENT
UID:6affb862-8f64-4652-8800-3cada59aff93
DTSTAMP:20260422T124224Z
SUMMARY:Lock Bypass Village's Call For Volunteers Closes July 1st
DESCRIPTION:Lock Bypass Village's Call For Volunteers\n\nOur Call for Volun
 teers is officially open! Are you interested in helping make sure Lock Byp
 ass Village runs smoothly? Are you enthusiastic and interested in Physical
  Security and helping make LBV a success? Volunteer with us!\n\nSince thin
 gs are online with DEF CON SAFE MODE this year\, we are adjusting to the n
 ew online format\, so please bear with us!\n\nCheck us out at bypassvillag
 e.org/callfor/#volunteers or email us at humans @bypassvillage.org for mor
 e information!\n\nWe have lots of stuff planned for our volunteer team\, s
 o please apply by July 8th\, 2020!
URL:https://forum.defcon.org/node/232803
DTSTART;VALUE=DATE:20200701
LOCATION:https://bypassvillage.org/callfor/#volunteers
END:VEVENT
END:VCALENDAR
