BEGIN:VCALENDAR
PRODID:-//vBulletin 6//EN
VERSION:2.0
CALSCALE:GREGORIAN
BEGIN:VEVENT
UID:d1e86aa8-71a4-4e82-82f4-11ebba4b87b9
DTSTAMP:20260421T033823Z
SUMMARY:Lock Bypass Village's Call For Proposals Closes July 1st
DESCRIPTION:Lock Bypass Village's Call For Proposals\n\n\nBoth our Call for
  Papers and our Call for Panelists is officially open! We're looking for e
 nthusiastic researchers\, pentesters\, hackers\, and general Physical Secu
 rity enthusiasts!\n\nDo you have some new breakthroughs you'd like to shar
 e at DEF CON 28? Do you have experience working in physical redteaming or 
 hacking and have exciting stories and adventures you'd like to share? We w
 ant to hear your talks!\n\nAre you interested in sitting on a panel and sh
 aring your experiences and expertise? Do you have interesting or unique in
 sights on the world of Physical Security? Let us know if you're interested
  in sitting on a panel!\n\nSince everything is in an online format this ye
 ar for SAFE MODE\, talks have the option to be a pre-recorded talk with li
 ve Q&A after\, or a live talk. Time allotment varies--we don't have rigid 
 speaking time slot lengths so we're flexible in how much time you need for
  your talk or panel!\n\nVisit us at bypassvillage.org/callfor/#proposals o
 r email talks @bypassvillage.org for more information and to apply!\n\nWe'
 ll be starting to make selections on July 1st\, 2020\, so get your applica
 tions in by then!
URL:https://forum.defcon.org/node/232804
DTSTART;VALUE=DATE:20200701
LOCATION:https://bypassvillage.org/callfor/#proposals
END:VEVENT
END:VCALENDAR
