BEGIN:VCALENDAR
PRODID:-//vBulletin 6//EN
VERSION:2.0
CALSCALE:GREGORIAN
BEGIN:VEVENT
UID:8020da77-bc34-4518-869d-6e91c81ad160
DTSTAMP:20260421T060317Z
SUMMARY:Register for SOHOplessly Broken Contest
DESCRIPTION:The SOHOpelessly Broken IoT Village CTF (https://www.iotvillage
 .org/) uses physical IoT devices on a private network.\n\nNetwork access w
 ill be given to the attendees. IoT Village will provision OpenVPN credenti
 als to all those who register.\n\nEach team may have up to 4 players and a
 ll players must register by Aug\, 5th and registration opens July 20th. Su
 pport and questions will be handled through the IoT Village discord channe
 ls on the DEF CON discord server. Prizes will be provided by eLearnSecurit
 y (https://www.elearnsecurity.com/).\n\nPlease register at ctf.iotvillage.
 org (http://ctf.iotvillage.org/). Our twitch stream (https://www.twitch.tv
 /iotvillage) will feature the CTF scoreboard. The date and times of the CT
 F will be announced on our website and twitter (https://twitter.com/IoTvil
 lage).
URL:https://forum.defcon.org/node/232952
DTSTART;VALUE=DATE:20200720
DTEND;VALUE=DATE:20200806
LOCATION:http://ctf.iotvillage.org/
END:VEVENT
END:VCALENDAR
