BEGIN:VCALENDAR
PRODID:-//vBulletin 6//EN
VERSION:2.0
CALSCALE:GREGORIAN
BEGIN:VEVENT
UID:8461fe1e-c34b-4aa0-8156-55966feb6b13
DTSTAMP:20260420T165135Z
SUMMARY:DC614 Columbus\, Ohio is meeting on Discord  July  9!
DESCRIPTION:discord.gg/invite/p3KJSHT
URL:https://forum.defcon.org/node/233191
DTSTART:20200710T023000Z
DTEND:20200710T043001Z
LOCATION:discord.gg/invite/p3KJSHT 
END:VEVENT
END:VCALENDAR
