BEGIN:VCALENDAR
PRODID:-//vBulletin 6//EN
VERSION:2.0
CALSCALE:GREGORIAN
BEGIN:VEVENT
UID:632ac54a-50ec-4926-b13e-9d4a9ebc070c
DTSTAMP:20260420T200809Z
SUMMARY:CMD+CTRL CyberRange - Saturday
DESCRIPTION:CMD+CTRL has evolved! Slip into an immersive scenario\, spannin
 g an entire corporate cloud environment. Intelligent chatbots acting as sk
 illed hackers will guide you every step of the way\, as you perform recon\
 , social engineering\, data exfiltration\, privilege escalation and much m
 ore. Move through websites\, servers\, accounts and cloud services\, all i
 n an effort to thwart an evil CEO and corrupt corporation. Just don’t ge
 t caught\, or you may have to burn it all down to cover your tracks!\n\nht
 tps://forum.defcon.org/node/231474\n\nhttps://discord.com/channels/7082082
 67699945503/711643642388807800\n\n@SecInnovation
URL:https://forum.defcon.org/node/233436
DTSTART:20200808T170000Z
DTEND:20200809T020001Z
LOCATION:https://discord.com/channels/708208267699945503/711643642388807800
END:VEVENT
END:VCALENDAR
