BEGIN:VCALENDAR
PRODID:-//vBulletin 6//EN
VERSION:2.0
CALSCALE:GREGORIAN
BEGIN:VEVENT
UID:ef8e65b3-3516-4702-83c8-49eb93cd0ac4
DTSTAMP:20260421T005705Z
SUMMARY:Coindroids - Friday
DESCRIPTION:The year is 20X5 and humanity has fallen: now there are only Co
 indroids. The machines we designed to manage our finances have supplanted 
 and destroyed the human race by turning our own economy against us. Now th
 ey battle each other in the ruins of our fallen cities\, driven by a singl
 e directive: money is power.\n\nBattle your way to the top of the leaderbo
 ard by attacking rival droids and completing hidden challenges.\n\nNew to 
 cryptocurrencies? No DEFCOIN to play with? Not a problem! Just come visit 
 our booth in the contest area and we can help get you started.\n\nhttps://
 forum.defcon.org/node/233033\n\nhttps://discord.com/channels/7082082676999
 45503/711643539573833878\n\n@coindroids\n\nhttps://www.coindroids.com
URL:https://forum.defcon.org/node/233441
DTSTART:20200807T170000Z
DTEND:20200808T020001Z
LOCATION:https://discord.com/channels/708208267699945503/711643539573833878
END:VEVENT
END:VCALENDAR
