BEGIN:VCALENDAR
PRODID:-//vBulletin 6//EN
VERSION:2.0
CALSCALE:GREGORIAN
BEGIN:VEVENT
UID:8815dea6-3b0c-44d3-b746-2cbb57a19308
DTSTAMP:20260420T200759Z
SUMMARY:DEF CON Scavenger Hunt - Friday
DESCRIPTION:While everyone in the world finds themselves socially distanced
  and in some level of quarantine\, we are bringing the DEF CON Scavenger H
 unt to you. As this year is so different\, teams will be limited to one pe
 rson.\n\nThe list will drop at 10AM on Friday\, with items to produce and 
 tasks to accomplish until the game ends at noon on Sunday. You will be com
 peting for glory\, bragging rights\, and prizes (that you can pick up at t
 he table\, during the next in-person DEF CON).\n\nhttps://forum.defcon.org
 /node/232938\n\nhttps://discord.com/channels/708208267699945503/7110492781
 63779605\n\n@DefConScavHunt\n\nhttp://defconscavhunt.com/
URL:https://forum.defcon.org/node/233444
DTSTART:20200807T170000Z
DTEND:20200808T020001Z
LOCATION:https://discord.com/channels/708208267699945503/711049278163779605
END:VEVENT
END:VCALENDAR
