BEGIN:VCALENDAR
PRODID:-//vBulletin 6//EN
VERSION:2.0
CALSCALE:GREGORIAN
BEGIN:VEVENT
UID:acc94537-5a6f-456e-89b9-b7a21bd82a65
DTSTAMP:20260421T033903Z
SUMMARY:EFF Tech Trivia Pub Quiz - Sunday
DESCRIPTION:EFF's team of technology experts have crafted challenging trivi
 a about the fascinating\, obscure\, and trivial aspects of digital securit
 y\, online rights\, and Internet culture. Competing teams will plumb the u
 nfathomable depths of their knowledge\, but only the champion hive mind wi
 ll claim the First Place Tech Trivia Plaque and EFF swag pack. The second 
 and third place teams will also win great EFF gear.\n\nhttps://forum.defco
 n.org/node/232941\n\nhttps://discord.com/channels/708208267699945503/71164
 4552573747350\n\n@EFF\n\nhttps://eff.org
URL:https://forum.defcon.org/node/233449
DTSTART:20200809T170000Z
DTEND:20200810T020001Z
LOCATION:https://discord.com/channels/708208267699945503/711644552573747350
END:VEVENT
END:VCALENDAR
