BEGIN:VCALENDAR
PRODID:-//vBulletin 6//EN
VERSION:2.0
CALSCALE:GREGORIAN
BEGIN:VEVENT
UID:a740c0d3-505f-444c-8219-3bfad5056b39
DTSTAMP:20260421T120630Z
SUMMARY:Hackfortress - Friday
DESCRIPTION:Hackfortress is a unique blend of Team Fortress 2 and a compute
 r security contest. Teams are made up of 6 TF2 players and 4 hackers\, TF2
  players duke it out while hackers are busy solving puzzles. As teams star
 t scoring they can redeem points in the hack fortress store for bonuses. B
 onuses range from crits for the TF2\, lighting the opposing team on fire\,
  or preventing the other teams hackers from accessing the store.\n\nhttps:
 //forum.defcon.org/node/232291\n\nhttps://discord.com/channels/70820826769
 9945503/711643831275225125\n\n@tf2shmoo\n\nhttp://hackfortress.net
URL:https://forum.defcon.org/node/233453
DTSTART:20200807T170000Z
DTEND:20200808T020001Z
LOCATION:https://discord.com/channels/708208267699945503/711643831275225125
END:VEVENT
END:VCALENDAR
