BEGIN:VCALENDAR
PRODID:-//vBulletin 6//EN
VERSION:2.0
CALSCALE:GREGORIAN
BEGIN:VEVENT
UID:620c7162-bba2-41e8-9d60-33728750b6ce
DTSTAMP:20260420T061335Z
SUMMARY:H@cker Runw@y - Saturday
DESCRIPTION:For the second year\, H@ck3r Runw@y is bringing together fashio
 nistas out there. Make it SMART\, LIGHT it up\, OBFUSCATE something\, or b
 e GEEKY on fleek. Enter clothing\, shoes\, jewelry\, hats or accessories. 
 If you wear it\, the runway can handle it. Predesign entry or create somet
 hing on the fly. Just do it before the stage and bring proof.\n\nAwards wi
 ll be handed out in 4 categories for predesign and one (1) for anything de
 signed during contest hours. There will also be a People’s Choice catego
 ry where the winner is anyone’s guess:\n\nDigital (electronic\, led\, et
 c)\nSmart wear (interactive\, temperature sensing\, mood changing\, etc)\n
 Aesthetics (3d printed\, geeky wear\, passive design)\nMiscellaneous (obfu
 scation\, lock picks\, shims\, card skimmers)\nLive creations\nPeople’s 
 Choice\n\nJudgement based on\, but not limited to:\n\nUniqueness\nTrendy\n
 Practical\nCouture\nCreativity\nRelevance\nOriginality\nPresentation\nMast
 ery\n\nhttps://forum.defcon.org/node/232893\n\nhttps://discord.com/channel
 s/708208267699945503/711644666239647824\n\n@Hack3rRunway\n\nhack3rrunway.g
 ithub.io
URL:https://forum.defcon.org/node/233458
DTSTART:20200808T170000Z
DTEND:20200809T020001Z
LOCATION:https://discord.com/channels/708208267699945503/711644666239647824
END:VEVENT
END:VCALENDAR
