BEGIN:VCALENDAR
PRODID:-//vBulletin 6//EN
VERSION:2.0
CALSCALE:GREGORIAN
BEGIN:VEVENT
UID:77e23c3f-7319-47a7-8b31-e31ba148b48e
DTSTAMP:20260420T045838Z
SUMMARY:ICS Hack the Plan[e]t - Friday
DESCRIPTION:Hack the Plan[e]t Capture the Flag (CTF) contest will feature H
 owdy Neighbor and the Industrial Control System (ICS) Range. This first of
  its kind CTF will integrate both Internet of Things (IoT) and ICS environ
 ments with interactive components for competitors to test their skills and
  knowledge.\n\nHowdy Neighbor is an interactive IoT CTF challenge where co
 mpetitors can test their hacking skills and learn about common oversights 
 made in development\, configuration\, and setup of IoT devices. Howdy Neig
 hbor is a miniature home - made to be “smart” from basement to garage.
  It’s a test-bed for reverse engineering and hacking distinct consumer-f
 ocused smart devices\, and to understand how the (in)security of individua
 l devices can implicate the safety of your home or office\, and ultimately
  your family or business. Within Howdy Neighbor there are over 25 emulated
  or real devices and over 50 vulnerabilities that have been staged as chal
 lenges. Each of the challenges are of varying levels to test a competitors
  ability to find vulnerabilities in an IoT environment. Howdy Neighbor’s
  challenges are composed of a real or simulated devices controlled by an A
 pp or Network interface and additional hardware sensors\; each Howdy Neigh
 bor device contains 1 to 3 staged vulnerabilities which when solved presen
 t a key for scoring/reporting that it was discovered.\n\nIn the same vein\
 , this CTF challenge will also leverage the ICS Village’s ICS Ranges inc
 luding physical and virtual environments to provide an additional testbed 
 for more advanced challenges in critical infrastructure and ICS environmen
 ts. New this year\, there will be integrated elements from DHS/CISA with t
 heir newly built mobile environments that are realistically miniaturized a
 ssets (ie - operational oil and natural gas pipeline\, etc.) and will be t
 he first they’ll be opened to the public for hacking.\n\nhttps://forum.d
 efcon.org/node/233029\n\nhttps://discord.com/channels/708208267699945503/7
 11643691877531698\n\n@ICS_Village\n\nhttps://www.icsvillage.com
URL:https://forum.defcon.org/node/233463
DTSTART:20200807T170000Z
DTEND:20200808T020001Z
LOCATION:https://discord.com/channels/708208267699945503/711643691877531698
END:VEVENT
END:VCALENDAR
