BEGIN:VCALENDAR
PRODID:-//vBulletin 6//EN
VERSION:2.0
CALSCALE:GREGORIAN
BEGIN:VEVENT
UID:fd8d7c47-fc5d-4b40-a4f0-12f91f85cc3d
DTSTAMP:20260420T125543Z
SUMMARY:Defcon Ham Radio Fox Hunting Contest - Sunday
DESCRIPTION:In the world of amateur radio\, groups of hams will often put t
 ogether a transmitter hunt (also called "fox hunting") in order to hone th
 eir radio direction finding skills to locate one or more hidden radio tran
 smitters broadcasting. The Defcon Fox Hunt will require participants to lo
 cate a number of hidden radio transmitters broadcasting at very low power 
 which are hidden throughout the conference. Each transmitter will provide 
 a clue or one time use ticket which will prove the player found the fox tr
 ansmitter. A map with rough search areas will be given to participants to 
 guide them on their hunt. Additional hints and tips will be provided throu
 ghout Defcon at the contest table to help people who find themselves stuck
 . A small prize to be determined will be given to each participant who loc
 ates all of the foxes each day. In previous years a custom made embroidere
 d velcro-backed patch was given out or a "fun" trophy. The patches are alw
 ays a big hit so it's likely we'll do that again this year if selected.\n\
 nhttps://forum.defcon.org/node/232947\n\nhttps://discord.com/channels/7082
 08267699945503/711645275902574633\n\n@richsentme\n\ndefcon27foxhunt.com
URL:https://forum.defcon.org/node/233468
DTSTART:20200809T170000Z
DTEND:20200810T020001Z
LOCATION:https://discord.com/channels/708208267699945503/711645275902574633
END:VEVENT
END:VCALENDAR
