BEGIN:VCALENDAR
PRODID:-//vBulletin 6//EN
VERSION:2.0
CALSCALE:GREGORIAN
BEGIN:VEVENT
UID:69461d0e-722c-43da-a528-bf247e9de328
DTSTAMP:20260420T045828Z
SUMMARY:Online MUD - EvilMog - Friday
DESCRIPTION:This CTF is a MUD with 8-9 quests\, intentional exploits\, and 
 about 1200 rooms has been setup at mog.ninja port 4000. A website document
 ing the MUD is at https://mog.ninja and a CTFd is setup at https://ctf.mog
 .ninja. The game is an LPMud and runs on gurbalib and DGD. If you complete
  all the quests you become a wizard. You connect by telneting on port 4000
 . The game has been balanced out to take about a week to complete all the 
 quests and hit max level if you find most of the in game exploits.\n\nhttp
 s://forum.defcon.org/node/232895\n\nhttps://discord.com/channels/708208267
 699945503/728707998796480590\n\nA website documenting the MUD is at https:
 //mog.ninja and a CTFd is setup at https://ctf.mog.ninja
URL:https://forum.defcon.org/node/233472
DTSTART:20200807T170000Z
DTEND:20200808T020001Z
LOCATION:https://discord.com/channels/708208267699945503/728707998796480590
END:VEVENT
END:VCALENDAR
