BEGIN:VCALENDAR
PRODID:-//vBulletin 6//EN
VERSION:2.0
CALSCALE:GREGORIAN
BEGIN:VEVENT
UID:d7175b39-a35e-466d-ba22-d67827147152
DTSTAMP:20260420T042001Z
SUMMARY:SEATF: Maritime Hacking CTF - Friday
DESCRIPTION:Fathom5’s Maritime-Industrial CTF event allows competitors to
  gain hands-on experience hacking real maritime hardware in a controlled e
 nvironment using Fathom5’s Grace maritime cybersecurity testbed. Grace i
 s an accessible\, realistic configuration of maritime systems where compet
 itors complete challenges in a simulated afloat environment\, with real IC
 S components and fieldbus protocols. The Grace testbed replicates a series
  of different maritime-industrial environments\, including navigation\, fi
 re main\, and hydraulic steering systems. The testbed makes both physical 
 and simulated components available to competitors in order to replicate pe
 rformance of maritime systems at lifelike scale. The CTF challenges scale 
 from novice to expert-level on both IT and OT fronts such that competitors
  can gain experience on either side of the system. This CTF event has been
  deployed at DEFCON 27 (Aug 2019) as part of the Hack The Sea Village v1.0
  and at HACKtheMACHINE-NYC (Sept 2019). It is also planned for to be deplo
 yed at DEFC ON 28 and HACKtheMACHINE- Atlanta in Aug 2020. This CTF can su
 pport approximately 20 teams of 3-5 individuals concurrently and typically
  takes 14 hours for skilled teams to navigate the challenges. The number o
 f teams\, size of teams\, and depth of challenges can be adjusted to fit w
 ithin host event timelines.\n\nhttps://forum.defcon.org/node/233012\n\nhtt
 ps://discord.com/channels/708208267699945503/711644244753776640
URL:https://forum.defcon.org/node/233483
DTSTART:20200807T140000Z
DTEND:20200808T000001Z
LOCATION:https://discord.com/channels/708208267699945503/711644244753776640
END:VEVENT
END:VCALENDAR
