BEGIN:VCALENDAR
PRODID:-//vBulletin 6//EN
VERSION:2.0
CALSCALE:GREGORIAN
BEGIN:VEVENT
UID:e0dafbe0-589b-4e5c-ba4b-7e8a5e57403b
DTSTAMP:20260421T060337Z
SUMMARY:SOHOpelessly Broken CTF - Saturday
DESCRIPTION:In this 3 time DEF CON Black Badge CTF hosted in IoT Village\, 
 players compete against one another by exploiting off-the-shelf IoT device
 s. These 25+ devices all have known vulnerabilities\, but to successfully 
 exploit these devices requires lateral thinking\, knowledge of networking\
 , and competency in exploit development. CTFs are a great experience to le
 arn more about security and test your skills\, so join up in a team (or ev
 en by yourself) and compete for fun and prizes! Exploit as many as you can
  during the con and the top three teams will be rewarded.\n\nhttps://forum
 .defcon.org/node/232897\n\nhttps://discord.com/channels/708208267699945503
 /711644307597164665\n\n@IoTvillage\n\nhttps://www.iotvillage.org/#yolo
URL:https://forum.defcon.org/node/233486
DTSTART:20200808T180000Z
DTEND:20200808T220001Z
LOCATION:https://discord.com/channels/708208267699945503/711644307597164665
END:VEVENT
END:VCALENDAR
