BEGIN:VCALENDAR
PRODID:-//vBulletin 6//EN
VERSION:2.0
CALSCALE:GREGORIAN
BEGIN:VEVENT
UID:7291680e-01d3-49e1-b8f7-da499d629ded
DTSTAMP:20260420T191759Z
SUMMARY:Wireless Capture the Flag - Sunday
DESCRIPTION:Do you have what it takes to hack WiFi\, Bluetooth\, and Softwa
 re Defined Radio (SDR)?\n\nRF Hackers Sanctuary (the group formerly known 
 as Wireless Village) is once again holding the Wireless Capture the Flag (
 WCTF) at DEF CON.\n\nWe cater to both those who are new to radio communica
 tions as well as to those who have been playing for a long time. We are lo
 oking for inexperienced players on up to the SIGINT secret squirrels to pl
 ay our games. The WCTF can be completely done with a little knowledge\, a 
 pen tester’s determination\, and $40 or $4000 worth of equipment\; the k
 ey is to read the clues and determine the goal of each challenge.\n\nEach 
 WCTF event begins with a presentation: How to WCTF. There will be clues ev
 erywhere\, and we will provide periodic updates. Make sure you pay attenti
 on to what’s happening at the WCTF desk\, on Twitter @wctf_us\, @rfhacke
 rs\, and the interwebz\, etc. If you have a question - ASK! We may or may 
 not answer at our discretion.\n\nhttps://forum.defcon.org/node/233017\n\nh
 ttps://discord.com/channels/7082082...44270976696380 (https://discord.com/
 channels/708208267699945503/711644270976696380)\n\n@wctf_us\n\nhttps://wct
 f.us/
URL:https://forum.defcon.org/node/233492
DTSTART:20200809T170000Z
DTEND:20200810T020001Z
LOCATION:https://discord.com/channels/708208267699945503/711644270976696380
END:VEVENT
END:VCALENDAR
