BEGIN:VCALENDAR
PRODID:-//vBulletin 6//EN
VERSION:2.0
CALSCALE:GREGORIAN
BEGIN:VEVENT
UID:b5b04aa1-ed80-41af-9b8a-cc18b32041e7
DTSTAMP:20260421T102409Z
SUMMARY:Whose Slide is It Anyway
DESCRIPTION:"Whose Slide Is It Anyway?” is an unholy union of improv come
 dy\, hacking and slide deck sado-masochism.\n\nOur team of slide monkeys w
 ill create a stupid amount of short slide decks on whatever nonsense tickl
 es our fancies. Slides are not exclusive to technology\, they can and will
  be about anything. Contestants will take the stage and choose a random nu
 mber corresponding to a specific slide deck. They will then improvise a mi
 nimum 5 minute / maximum 10 minute lightning talk\, becoming instant subje
 ct matter experts on whatever topic/stream of consciousness appears on the
  screen.\n\nBut....why?\nWhether you delight in the chaos of watching your
  fellow hackers squirm or would like to sacrifice yourself to the Contest 
 Gods\, it’s a night of schadenfreude for the whole family.\n\nOh\, and p
 rizes. Lots and lots of prizes.\nSign ups will be the day of the contest w
 ith some special ways to secure your spot early.\n\nhttps://forum.defcon.o
 rg/node/232955\n\nhttps://discord.com/channels/708208267699945503/71164433
 7942822925
URL:https://forum.defcon.org/node/233493
DTSTART:20200809T040000Z
DTEND:20200809T060001Z
LOCATION:https://discord.com/channels/708208267699945503/711644337942822925
END:VEVENT
END:VCALENDAR
