BEGIN:VCALENDAR
PRODID:-//vBulletin 6//EN
VERSION:2.0
CALSCALE:GREGORIAN
BEGIN:VEVENT
UID:bb625878-0e6b-42a4-828e-630471d5403a
DTSTAMP:20260420T125559Z
SUMMARY:Social Engineer SECTF4Teens - Friday
DESCRIPTION:https://forum.defcon.org/node/231051\n\nhttps://discord.com/cha
 nnels/708208267699945503/726609125760434176
URL:https://forum.defcon.org/node/233502
DTSTART:20200807T170000Z
DTEND:20200808T020001Z
LOCATION:https://forum.defcon.org/node/231051  https://discord.com/channels
 /708208267699945503/726609125760434176
END:VEVENT
END:VCALENDAR
