BEGIN:VCALENDAR
PRODID:-//vBulletin 6//EN
VERSION:2.0
CALSCALE:GREGORIAN
BEGIN:VEVENT
UID:a7ec8b4b-800b-4a48-9a68-ac98641c018c
DTSTAMP:20260420T111735Z
SUMMARY:Ham Exams - Friday
DESCRIPTION:Pre-register to take your ham radio exam and get your amateur r
 adio license or upgrade to a new class!\n\nFriday: https://ham.study/sessi
 ons/5f0e7677295c50941c2cad5f/1\n\nhttps://discord.com/channels/70820826769
 9945503/732733631667372103\n\n@DC_Ham_Exams
URL:https://forum.defcon.org/node/233505
DTSTART:20200807T190000Z
DTEND:20200808T010001Z
LOCATION:https://discord.com/channels/708208267699945503/732733631667372103
END:VEVENT
END:VCALENDAR
