BEGIN:VCALENDAR
PRODID:-//vBulletin 6//EN
VERSION:2.0
CALSCALE:GREGORIAN
BEGIN:VEVENT
UID:53226538-5e18-4f73-a123-1bce1e42b7f8
DTSTAMP:20260420T142936Z
SUMMARY:Ham Exams - Sunday
DESCRIPTION:Pre-register to take your ham radio exam and get your amateur r
 adio license or upgrade to a new class!\n\nSunday: https://ham.study/sessi
 ons/5f0e77d9a47e313e8e5295d9/1\n\nhttps://discord.com/channels/70820826769
 9945503/732733631667372103\n\n@DC_Ham_Exams
URL:https://forum.defcon.org/node/233507
DTSTART:20200809T230000Z
DTEND:20200810T010001Z
LOCATION:https://discord.com/channels/708208267699945503/732733631667372103
END:VEVENT
END:VCALENDAR
