BEGIN:VCALENDAR
PRODID:-//vBulletin 6//EN
VERSION:2.0
CALSCALE:GREGORIAN
BEGIN:VEVENT
UID:0cd2c1b9-a9ba-44e4-82a4-631756ce2006
DTSTAMP:20260420T081005Z
SUMMARY:Red Team Pendulum Finals
DESCRIPTION:Red Team Village Pendulum\n\nSignup: https://redteamvillage.io/
 ctf\n\nRules: https://RedTeamVillage.io/\nTwitter @VillageRedTeam (https:/
 /twitter.com/VillageRedTeam)\nDiscord: Defcon/RedTeam/ctf\n \nPrelims:\nTh
 ursday: AUGUST 6th 09:00 PDT to AUGUST 7th Friday: 09:00 PDT\n\nFinals:\nS
 aturday: AUGUST 7th 09:30 PDT to AUGUST 9th Sunday: 09:00 PDT\n\nRed Teams
  from all over the world will converge August 6th to compete in the world'
 s most challenging Red Team attack and escalate based Cybersecurity challe
 nge\, the Pendulum.\n\nUnleash your Red Team Legions abilities in the de
 mon hellfire Pendulum\, conquering and vanquishing these demons will be no
  easy task. Teams that conjure team work\, skills\, strategy and sure will
 -power may emerge triumphant and claim not only the demon realm seal\, but
  its riches! Bring your offensive security\, exploitation\, and reverse en
 gineer skills.\n\nFinalists teams will compete in a fully dedicated enviro
 nment\, pushing their aptitude to the limit\, culminating in the finals th
 at start August 8th and finish August 9th\, 16:00 PDT\n\nFollow the DC Red
  Team on for updates and notifications\, as well as what prizes will be aw
 arded along each stage of the challenge.
URL:https://forum.defcon.org/node/233603
DTSTART:20200807T173000Z
DTEND:20200809T170001Z
END:VEVENT
END:VCALENDAR
