BEGIN:VCALENDAR
PRODID:-//vBulletin 6//EN
VERSION:2.0
CALSCALE:GREGORIAN
BEGIN:VEVENT
UID:b8ecd3d4-bdd8-43f0-a728-6fc9d8f6daed
DTSTAMP:20260420T214052Z
SUMMARY:A Policy Approach to Resolving Cybersecurity Problems inthe Electio
 n Process
DESCRIPTION:Cybersecurity researchers keep identifying cybersecurity vulner
 abilities in voting machines andin the election process\, but not much hap
 pens in closing identified vulnerabilities. The privatesector vendors invo
 lved in voter registration\, manufacturing and programming voting machines
 \,and vote tabulation are less than responsive and few have not provided e
 vidence that they havestrong cybersecurity programs that meet best practic
 es and standards and regular have cyberrisk assessments performed. This pr
 esentation will put forward a federal policy approach thatwill help correc
 t these problems and advance the integrity of elections across the country
 .
URL:https://forum.defcon.org/node/233897
DTSTART:20200807T190000Z
DTEND:20200807T193001Z
LOCATION:Voting Village
END:VEVENT
END:VCALENDAR
