BEGIN:VCALENDAR
PRODID:-//vBulletin 6//EN
VERSION:2.0
CALSCALE:GREGORIAN
BEGIN:VEVENT
UID:d9849a0a-e44b-492f-8df0-9b1f7b44bc69
DTSTAMP:20260420T101118Z
SUMMARY:A Panel with the Feds on Election Security
DESCRIPTION:Elections are critical in a free and fair society. Public trust
  in election infrastructure begins with understanding what the Government 
 has done with transparency and how the hacker community can help. We are a
 ll citizens and our voices should be heard.\n\n- What has the Federal Gove
 rnment done since 2016 including with state and local?\n- What changes hav
 e come about with the military’s Defend Forward strategy in 2018?\n- How
  do they work together with the domestic efforts?\n- How are foreign and d
 omestic campaigns of disinformation managed?\n- What else could we do bett
 er?\n- How can the hacker community help?
URL:https://forum.defcon.org/node/233905
DTSTART:20200807T210000Z
DTEND:20200807T220001Z
LOCATION:Voting Village
END:VEVENT
END:VCALENDAR
