BEGIN:VCALENDAR
PRODID:-//vBulletin 6//EN
VERSION:2.0
CALSCALE:GREGORIAN
BEGIN:VEVENT
UID:ff8d9665-f39c-4667-98be-2ce30ab8edf3
DTSTAMP:20260421T165312Z
SUMMARY:War By Other Means: How Influence Operations Undermine Democracy
DESCRIPTION:New tactics and capabilities in information warfare give author
 itarians unprecedented power to "hack" the electorates. Our research on ca
 mpaigns in Poland and Taiwan show the breadth and impact of operations aga
 inst democracies around the world and what they foreshadow for the US Pres
 idential election.
URL:https://forum.defcon.org/node/233908
DTSTART:20200808T180000Z
DTEND:20200808T183001Z
LOCATION:Voting Village
END:VEVENT
END:VCALENDAR
