BEGIN:VCALENDAR
PRODID:-//vBulletin 6//EN
VERSION:2.0
CALSCALE:GREGORIAN
BEGIN:VEVENT
UID:b92a14a0-b2d0-4910-8309-215dc55f4ca8
DTSTAMP:20260421T120036Z
SUMMARY:A Lawyer's Reflections on Elections
DESCRIPTION:Title: A Lawyer's Reflections on Elections\n\nDescription:\nJoi
 n Cordero Alexander Delgadillo (@CORDERO_ESQ)\, a business and technology 
 lawyer\, and more recently a former political candidate\, as he demonstrat
 es that elections\, especially local elections\, are akin to information s
 ystems (even reasonably locked down systems)\, because both are highly sus
 ceptible to the very non-tech\, human vulnerabilities (nefarious and negli
 gent). In this talk Cordero will provide insight by:\n\n- Examining the st
 ructures of American Democracy\n- Telling stories from his own election la
 wsuit: Delgadillo v. City of Peoria et al\n- Highlighting election process
  issues deemed “inconsequential” or “un-addressable”\n- Sharing in
 formation and resources\n\nSpeaker(s): Cordero Alexander Delgadillo\n\nLoc
 ation: Voting Vlg\n\nDiscord: https://discord.com/channels/708208267699945
 503/732733881148506164\n\nEvent starts: 2020-08-08 15:30 (03:30 PM) PDT (U
 TC -07:00)\n\nEvent ends: 2020-08-08 16:00 (04:00 PM) PDT (UTC -07:00)\n\n
 For the most up-to-date information\, please either visit https://info.def
 con.org\, or use HackerTracker\, which is available for iOS and Android. T
 his is an automated message\, and this data was last modified 2020-08-03T2
 0:10 (UTC).
URL:https://forum.defcon.org/node/233914
DTSTART:20200808T233000Z
DTEND:20200809T000001Z
LOCATION:Voting Vlg
END:VEVENT
END:VCALENDAR
