BEGIN:VCALENDAR
PRODID:-//vBulletin 6//EN
VERSION:2.0
CALSCALE:GREGORIAN
BEGIN:VEVENT
UID:614ed40b-f207-46bb-b235-a8808a98a7e9
DTSTAMP:20260421T040113Z
SUMMARY:See Something\, Say Something
DESCRIPTION:Location: Voting Vlg\n\nDiscord: https://discord.com/channels/7
 08208267699945503/732733881148506164\n\nEvent starts: 2020-08-07 12:30 (12
 :30 PM) PDT (UTC -07:00)\n\nEvent ends: 2020-08-07 13:00 (01:00 PM) PDT (U
 TC -07:00)\n\nSpeaker(s): Marten Mickos\n\nFor the most up-to-date informa
 tion\, please either visit https://info.defcon.org\, or use HackerTracker\
 , which is available for iOS and Android. This is an automated message\, a
 nd this data was last modified 2020-08-01T04:11.
URL:https://forum.defcon.org/node/233931
DTSTART:20200807T203000Z
DTEND:20200807T210001Z
LOCATION:Voting Vlg
END:VEVENT
END:VCALENDAR
