BEGIN:VCALENDAR
PRODID:-//vBulletin 6//EN
VERSION:2.0
CALSCALE:GREGORIAN
BEGIN:VEVENT
UID:d3b536c7-4e4c-4e31-89cb-a44de2b5490d
DTSTAMP:20260419T194741Z
SUMMARY:Keynote Remarks: Senator Ron Wyden
DESCRIPTION:Location: Voting Vlg\n\nDiscord: https://discord.com/channels/7
 08208267699945503/732733881148506164\n\nEvent starts: 2020-08-07 14:00 (02
 :00 PM) PDT (UTC -07:00)\n\nEvent ends: 2020-08-07 14:30 (02:30 PM) PDT (U
 TC -07:00)\n\nSpeaker(s): Ron Wyden\n\nFor the most up-to-date information
 \, please either visit https://info.defcon.org\, or use HackerTracker\, wh
 ich is available for iOS and Android. This is an automated message\, and t
 his data was last modified 2020-08-01T04:12.
URL:https://forum.defcon.org/node/233932
DTSTART:20200807T220000Z
DTEND:20200807T223001Z
LOCATION:Voting Vlg
END:VEVENT
END:VCALENDAR
