BEGIN:VCALENDAR
PRODID:-//vBulletin 6//EN
VERSION:2.0
CALSCALE:GREGORIAN
BEGIN:VEVENT
UID:5ea53973-7e98-4c25-a671-18ec26068586
DTSTAMP:20260419T194645Z
SUMMARY:John Odum\, Montpelier\, VT
DESCRIPTION:Location: Voting Vlg\n\nDiscord: https://discord.com/channels/7
 08208267699945503/732733881148506164\n\nEvent starts: 2020-08-08 10:30 (10
 :30 AM) PDT (UTC -07:00)\n\nEvent ends: 2020-08-08 11:00 (11:00 AM) PDT (U
 TC -07:00)\n\nSpeaker(s): John Odum\n\nFor the most up-to-date information
 \, please either visit https://info.defcon.org\, or use HackerTracker\, wh
 ich is available for iOS and Android. This is an automated message\, and t
 his data was last modified 2020-08-01T04:14.
URL:https://forum.defcon.org/node/233935
DTSTART:20200808T183000Z
DTEND:20200808T190001Z
LOCATION:Voting Vlg
END:VEVENT
END:VCALENDAR
