BEGIN:VCALENDAR
PRODID:-//vBulletin 6//EN
VERSION:2.0
CALSCALE:GREGORIAN
BEGIN:VEVENT
UID:85927752-fda2-4eea-8eb8-39ede433f9dc
DTSTAMP:20260420T121738Z
SUMMARY:Vote-from-home? Review of Election Security on Remote Voting in Res
 ponse to COVID-19
DESCRIPTION:This presentation poses a question on whether the remote voting
  by online or vote-by-mail is trustworthy under the COVID-19 pandemic situ
 ation. One of the worldwide efforts to contain thevirus was to work-from-h
 ome and restriction orders. Besides\, because of the human contact is crit
 ical in the dissemination of the virus\, possibilities of alternative meth
 ods of voting such as online voting\, blockchain voting\, vote-by-mail are
  proposed. In light of such a situation\, the article proposes a framework
  to evaluate the election security of remote voting methods. Further\, the
  article provides a case of best practice for election administration from
  the case of the Republic of Korea. Based off of the assessment results fr
 om the proposed evaluation framework\, the article provides modest suggest
 ions and policy implications to the election administrators.\n\nLocation: 
 Voting Vlg\n\nDiscord: https://discord.com/channels/708208267699945503/732
 733881148506164\n\nEvent starts: 2020-08-08 14:00 (02:00 PM) PDT (UTC -07:
 00)\n\nEvent ends: 2020-08-08 14:30 (02:30 PM) PDT (UTC -07:00)\n\nSpeaker
 (s): Sang-Oun Lee\n\nFor the most up-to-date information\, please either v
 isit https://info.defcon.org\, or use HackerTracker\, which is available f
 or iOS and Android. This is an automated message\, and this data was last 
 modified 2020-08-01T16:45.
URL:https://forum.defcon.org/node/233936
DTSTART:20200808T220000Z
DTEND:20200808T223001Z
LOCATION:Voting Vlg
END:VEVENT
END:VCALENDAR
