BEGIN:VCALENDAR
PRODID:-//vBulletin 6//EN
VERSION:2.0
CALSCALE:GREGORIAN
BEGIN:VEVENT
UID:988497b4-80a4-456b-ad1f-b8d42f62314a
DTSTAMP:20260420T121748Z
SUMMARY:Electronic Ballot Return Standards &amp\; Guidelines
DESCRIPTION:The emergence of new electronic ballot return methods creates a
 n opportunity for greater vote access and potential enfranchisement\, but 
 also raises concerns about security in an increasingly tumultuous cyber-el
 ection landscape. The challenge of security is further compounded by a lac
 k of proactive guidance from the federal level on developing these new tec
 hnologies\, leaving a gap in the secure development of the technologies to
  adopt an elections framework and approach to security. Experts from the N
 ational Cybersecurity Center (NCC) will offer a draft of security guidelin
 es for the new electronic ballot return platforms to consider\, and for fe
 deral agencies to adopt. The guidelines format mimics the Voluntary Voting
  System Guidelines created by the Election Assistance Commission.\n\nLocat
 ion: Voting Vlg\n\nDiscord: https://discord.com/channels/70820826769994550
 3/732733881148506164\n\nEvent starts: 2020-08-08 14:30 (02:30 PM) PDT (UTC
  -07:00)\n\nEvent ends: 2020-08-08 15:00 (03:00 PM) PDT (UTC -07:00)\n\nSp
 eaker(s): Forrest Senti\, Mattie Gullixson\n\nFor the most up-to-date info
 rmation\, please either visit https://info.defcon.org\, or use HackerTrack
 er\, which is available for iOS and Android. This is an automated message\
 , and this data was last modified 2020-08-01T16:47.
URL:https://forum.defcon.org/node/233937
DTSTART:20200808T223000Z
DTEND:20200808T230001Z
LOCATION:Voting Vlg
END:VEVENT
END:VCALENDAR
