BEGIN:VCALENDAR
PRODID:-//vBulletin 6//EN
VERSION:2.0
CALSCALE:GREGORIAN
BEGIN:VEVENT
UID:7428c5e7-6f88-45e4-a7c3-e19e4c6c3e93
DTSTAMP:20260420T101052Z
SUMMARY:Understanding Cyber-Attacks and Their Implications to Democratic Re
 gimes
DESCRIPTION:Cyber-security experts have documented how authoritarian regime
 s attacked the US voting infrastructure or how this type of governments st
 ole information from American companies. This evidence suggests that autho
 ritarian regimes are more likely to conduct cyber-attacks than democratic 
 ones. The purpose of this research is to prove this hypothesis. With infor
 mation from the Center for Strategic and International Studies (CSIS)\, th
 is research provides a descriptive analysis of the Significant Cyber Incid
 ents that occurred worldwide from 2006 to 2019. To prove the former hypoth
 esis\, this research shows the results from panel data models with random 
 and fixed effects\, which provide evidence that confirms this hypothesis: 
 authoritarian regimes are more likely to commit cyber-attacks than democra
 tic states. However\, there is no evidence to sustain that democracies are
  more likely to be attacked than authoritarian regimes. In otherwords\, al
 l regimes are subject to cyber-attacks.\n\n\nLocation: Voting Vlg\n\nDisco
 rd: https://discord.com/channels/708208267699945503/732733881148506164\n\n
 Event starts: 2020-08-08 15:00 (03:00 PM) PDT (UTC -07:00)\n\nEvent ends: 
 2020-08-08 15:30 (03:30 PM) PDT (UTC -07:00)\n\nSpeaker(s): Javier F. Pati
 ño García\n\nFor the most up-to-date information\, please either visit h
 ttps://info.defcon.org\, or use HackerTracker\, which is available for iOS
  and Android. This is an automated message\, and this data was last modifi
 ed 2020-08-01T16:48.
URL:https://forum.defcon.org/node/233938
DTSTART:20200808T230000Z
DTEND:20200808T233001Z
LOCATION:Voting Vlg
END:VEVENT
END:VCALENDAR
