BEGIN:VCALENDAR
PRODID:-//vBulletin 6//EN
VERSION:2.0
CALSCALE:GREGORIAN
BEGIN:VEVENT
UID:77c11733-9bd1-4917-b7e9-34f91c8b7af4
DTSTAMP:20260420T134408Z
SUMMARY:Protecting Elections with Data Science -- A Tool for 2020 and Beyon
 d
DESCRIPTION:Title: Protecting Elections with Data Science -- A Tool for 202
 0 and Beyond\n\nDescription:\nWhat are the possibilities\, and challenges\
 , for using data science to protect elections? Stephanie Singer will descr
 ibe an open source tool to aid in quick consolidation of election results\
 , and a public-facing web front end planned for November 2020 and beyond.\
 n\nSpeaker(s): Stephanie Singer\n\nLocation: Voting Vlg\n\nDiscord: https:
 //discord.com/channels/708208267699945503/732733881148506164\n\nEvent star
 ts: 2020-08-08 16:00 (04:00 PM) PDT (UTC -07:00)\n\nEvent ends: 2020-08-08
  16:30 (04:30 PM) PDT (UTC -07:00)\n\nFor the most up-to-date information\
 , please either visit https://info.defcon.org\, or use HackerTracker\, whi
 ch is available for iOS and Android. This is an automated message\, and th
 is data was last modified 2020-08-03T20:09 (UTC).
URL:https://forum.defcon.org/node/233939
DTSTART:20200809T000000Z
DTEND:20200809T003001Z
LOCATION:Voting Vlg
END:VEVENT
END:VCALENDAR
