BEGIN:VCALENDAR
PRODID:-//vBulletin 6//EN
VERSION:2.0
CALSCALE:GREGORIAN
BEGIN:VEVENT
UID:76e90038-ea75-4b42-9d9f-60cf20b9a2da
DTSTAMP:20260421T135458Z
SUMMARY:Welcome Speech
DESCRIPTION:Speaker(s): rehr\n\nLocation: Monero Vlg\n\nDiscord: https://di
 scord.com/channels/708208267699945503/732733510288408676\n\nEvent starts: 
 2020-08-07 09:50 (09:50 AM) PDT (UTC -07:00)\n\nEvent ends: 2020-08-07 10:
 00 (10:00 AM) PDT (UTC -07:00)\n\nFor the most up-to-date information\, pl
 ease either visit https://info.defcon.org\, or use HackerTracker\, which i
 s available for iOS and Android. This is an automated message\, and this d
 ata was last modified 2020-07-29T14:33 (UTC).
URL:https://forum.defcon.org/node/233980
DTSTART:20200807T175000Z
DTEND:20200807T180001Z
LOCATION:Monero Vlg
END:VEVENT
END:VCALENDAR
