BEGIN:VCALENDAR
PRODID:-//vBulletin 6//EN
VERSION:2.0
CALSCALE:GREGORIAN
BEGIN:VEVENT
UID:59b91e6d-a7da-4f2b-a03f-2679ec2d08e2
DTSTAMP:20260421T043808Z
SUMMARY:Proposed Mitigation Measures to Address a Disruption Such as The Ec
 onomic Impact of COVID -19 on Tr
DESCRIPTION:Monero uses an adaptive block weight based upon the CryptoNote 
 excess size penalty with a median over the last 100 blocks\, cryptonote.or
 g/whitepaper.pdf\, to provide the capacity for increases and decreases in 
 the number of transactions. In 2019 this adaptive block weight was modifie
 d by the introduction of a long term median over the last 100\,000 blocks 
 to mitigate against a sharp increase in the block weight\, due to possible
  spam attacks. We will consider the scenario of external economic events c
 ausing a sharp decrease in he number of transactions after several years o
 f growth\, followed by a recovery and then further growth several months l
 ater. We will also consider the possibility of a sharp increase in the num
 ber of transactions\, due to economic disruptions\, during the current COV
 ID-19 pandemic. and in its aftermath. We will propose changes to the Moner
 o adaptive block weight in order to mitigate against a sharp increase in t
 ransaction fees and allow for a smooth recovery\, and further growth in th
 e block weight after a sharp drop in the number of transactions . The peri
 od between the initial drop in the number of transactions to the full reco
 very with further growth of the block weight would be in the order of mont
 hs.\n\nSpeaker(s): Dr. Francisco "ArticMine" Cabañas\n\nLocation: Monero 
 Vlg\n\nDiscord: https://discord.com/channels/708208267699945503/7327335102
 88408676\n\nEvent starts: 2020-08-07 12:00 (12:00 PM) PDT (UTC -07:00)\n\n
 Event ends: 2020-08-07 12:30 (12:30 PM) PDT (UTC -07:00)\n\nFor the most u
 p-to-date information\, please either visit https://info.defcon.org\, or u
 se HackerTracker\, which is available for iOS and Android. This is an auto
 mated message\, and this data was last modified 2020-07-29T14:34 (UTC).
URL:https://forum.defcon.org/node/233982
DTSTART:20200807T200000Z
DTEND:20200807T203001Z
LOCATION:Monero Vlg
END:VEVENT
END:VCALENDAR
