BEGIN:VCALENDAR
PRODID:-//vBulletin 6//EN
VERSION:2.0
CALSCALE:GREGORIAN
BEGIN:VEVENT
UID:40553087-ed21-4031-97e6-55f6b9d078a5
DTSTAMP:20260420T214914Z
SUMMARY:This year's village badge
DESCRIPTION:Codenamed Bob\, this year's electronic badge enjoys collaborati
 on from several villages and is called the Intervillage Badge. https://bob
 .monerodevices.com/ In this hour\, we review the construction and feature 
 set of this unique electronic badge. We consider it's energy harvesting ab
 ility\, hackable nature\, and radio signature. This year's badge contains 
 three RFID/NFC long range circuits\, dome switches never seen before on ba
 dges\, and a trapazoidal 13.56 MHz trace antenna. It is enclosed in a tran
 slucent colored plastic frame\, a full colour front overlay\, and back mou
 nted color leatherette (to protect your phone lens.) The Opensource design
  is located on scm.monerodevices.com with several of your Monero friends p
 articipating in the project. The Intervillage Badge is distributed by well
  known sellers\, please see shop.monerodevices.com for information. For mo
 re information about this year's village badge (and many others)\, please 
 visit the Monero Village office hours. View the schedule at Monerovillage.
 org and look for 'Badge Clinic'.\n\nSpeaker(s): Michael Schloh von Bennewi
 tz\n\nLocation: Monero Vlg\n\nDiscord: https://discord.com/channels/708208
 267699945503/732733510288408676\n\nEvent starts: 2020-08-07 13:00 (01:00 P
 M) PDT (UTC -07:00)\n\nEvent ends: 2020-08-07 14:00 (02:00 PM) PDT (UTC -0
 7:00)\n\nFor the most up-to-date information\, please either visit https:/
 /info.defcon.org\, or use HackerTracker\, which is available for iOS and A
 ndroid. This is an automated message\, and this data was last modified 202
 0-07-29T14:34 (UTC).
URL:https://forum.defcon.org/node/233983
DTSTART:20200807T210000Z
DTEND:20200807T220001Z
LOCATION:Monero Vlg
END:VEVENT
END:VCALENDAR
