BEGIN:VCALENDAR
PRODID:-//vBulletin 6//EN
VERSION:2.0
CALSCALE:GREGORIAN
BEGIN:VEVENT
UID:21da28c5-a95c-4145-b83a-e06fcc456fb3
DTSTAMP:20260420T214844Z
SUMMARY:Getting started with the Intervillage badge
DESCRIPTION:Codenamed Bob\, this year's electronic badge enjoys collaborati
 on from several villages and is called the Intervillage Badge. https://bob
 .monerodevices.com/ In this hour\, we focus on ways to use the Intervillag
 e Badge including: - Out of the box data storage with NFCTools - Onboardin
 g procedure for your village use - Impersonating radio IDs in your environ
 ment - Backing up data from mobile applications - Playing the Rogues Villa
 ge Game online - Navigating the Bob village network Continuing\, we consid
 er modification strategies to make the badge suit your personal village st
 yle\, like adding a lanyard\, printing a new enclosure\, and disassembly s
 trategies. We conclude by reviewing hardware hacks the badge may support a
 s well as VNA assisted antenna tuning. For more information about this yea
 r's village badge (and many others)\, please visit the Monero Village offi
 ce hours. View the schedule at Monerovillage.org and look for 'Badge Clini
 c'.\n\nSpeaker(s): Michael Schloh von Bennewitz\n\nLocation: Monero Vlg\n\
 nDiscord: https://discord.com/channels/708208267699945503/7327335102884086
 76\n\nEvent starts: 2020-08-07 14:30 (02:30 PM) PDT (UTC -07:00)\n\nEvent 
 ends: 2020-08-07 15:30 (03:30 PM) PDT (UTC -07:00)\n\nFor the most up-to-d
 ate information\, please either visit https://info.defcon.org\, or use Hac
 kerTracker\, which is available for iOS and Android. This is an automated 
 message\, and this data was last modified 2020-07-29T14:34 (UTC).
URL:https://forum.defcon.org/node/233984
DTSTART:20200807T223000Z
DTEND:20200807T233001Z
LOCATION:Monero Vlg
END:VEVENT
END:VCALENDAR
