BEGIN:VCALENDAR
PRODID:-//vBulletin 6//EN
VERSION:2.0
CALSCALE:GREGORIAN
BEGIN:VEVENT
UID:3ebce4ae-5d8c-4574-af6c-f73418de70bf
DTSTAMP:20260420T214721Z
SUMMARY:Monero Wallet Basics: Sending\, Receiving\, Proving
DESCRIPTION:Speaker(s): rehr\n\nLocation: Monero Vlg\n\nDiscord: https://di
 scord.com/channels/708208267699945503/732733510288408676\n\nEvent starts: 
 2020-08-07 15:30 (03:30 PM) PDT (UTC -07:00)\n\nEvent ends: 2020-08-07 16:
 00 (04:00 PM) PDT (UTC -07:00)\n\nFor the most up-to-date information\, pl
 ease either visit https://info.defcon.org\, or use HackerTracker\, which i
 s available for iOS and Android. This is an automated message\, and this d
 ata was last modified 2020-07-29T14:35 (UTC).
URL:https://forum.defcon.org/node/233985
DTSTART:20200807T233000Z
DTEND:20200808T000001Z
LOCATION:Monero Vlg
END:VEVENT
END:VCALENDAR
