BEGIN:VCALENDAR
PRODID:-//vBulletin 6//EN
VERSION:2.0
CALSCALE:GREGORIAN
BEGIN:VEVENT
UID:af1b8294-de0c-42d5-b148-ce7bd2a8378c
DTSTAMP:20260420T214854Z
SUMMARY:Meme Competition
DESCRIPTION:Location: Monero Vlg\n\nDiscord: https://discord.com/channels/7
 08208267699945503/732733510288408676\n\nEvent starts: 2020-08-07 16:00 (04
 :00 PM) PDT (UTC -07:00)\n\nEvent ends: 2020-08-07 17:00 (05:00 PM) PDT (U
 TC -07:00)\n\nFor the most up-to-date information\, please either visit ht
 tps://info.defcon.org\, or use HackerTracker\, which is available for iOS 
 and Android. This is an automated message\, and this data was last modifie
 d 2020-07-29T14:35 (UTC).
URL:https://forum.defcon.org/node/233986
DTSTART:20200808T000000Z
DTEND:20200808T010001Z
LOCATION:Monero Vlg
END:VEVENT
END:VCALENDAR
