BEGIN:VCALENDAR
PRODID:-//vBulletin 6//EN
VERSION:2.0
CALSCALE:GREGORIAN
BEGIN:VEVENT
UID:c09b203e-3c71-4c86-bd8a-a3c226f138ce
DTSTAMP:20260420T160400Z
SUMMARY:Decentralization in a Centralized world
DESCRIPTION:Speaker(s): rehr\n\nLocation: Monero Vlg\n\nDiscord: https://di
 scord.com/channels/708208267699945503/732733510288408676\n\nEvent starts: 
 2020-08-08 15:00 (03:00 PM) PDT (UTC -07:00)\n\nEvent ends: 2020-08-08 15:
 30 (03:30 PM) PDT (UTC -07:00)\n\nFor the most up-to-date information\, pl
 ease either visit https://info.defcon.org\, or use HackerTracker\, which i
 s available for iOS and Android. This is an automated message\, and this d
 ata was last modified 2020-07-29T14:36 (UTC).
URL:https://forum.defcon.org/node/233990
DTSTART:20200808T230000Z
DTEND:20200808T233001Z
LOCATION:Monero Vlg
END:VEVENT
END:VCALENDAR
