BEGIN:VCALENDAR
PRODID:-//vBulletin 6//EN
VERSION:2.0
CALSCALE:GREGORIAN
BEGIN:VEVENT
UID:a600e6a9-f5ae-408b-b315-bbe14382a582
DTSTAMP:20260421T165302Z
SUMMARY:Tricky Bundles: Smarter Dependency Management for I2P-Bundling Appl
 ications
DESCRIPTION:We will explore the use of I2P distributions like Monero's own 
 i2p-zero and how they can be used to create and distribute I2P application
 s that use I2P for networking in non-JVM languages\, best practices for cr
 eating a tricky bundle\, and how tricky bundles can help bridge the gaps b
 etween I2P and the applications that it can adapt. As part of this\, we wi
 ll examine the structure of I2P from a non-I2P developer's perspective\, a
 nd explore it's relationships to the applications that use it with example
 s from the Java distribution and with third-party applications that use SA
 M.\n\nSpeaker(s): idk\n\nLocation: Monero Vlg\n\nDiscord: https://discord.
 com/channels/708208267699945503/732733510288408676\n\nEvent starts: 2020-0
 8-08 16:00 (04:00 PM) PDT (UTC -07:00)\n\nEvent ends: 2020-08-08 16:30 (04
 :30 PM) PDT (UTC -07:00)\n\nFor the most up-to-date information\, please e
 ither visit https://info.defcon.org\, or use HackerTracker\, which is avai
 lable for iOS and Android. This is an automated message\, and this data wa
 s last modified 2020-07-29T14:36 (UTC).
URL:https://forum.defcon.org/node/233991
DTSTART:20200809T000000Z
DTEND:20200809T003001Z
LOCATION:Monero Vlg
END:VEVENT
END:VCALENDAR
