BEGIN:VCALENDAR
PRODID:-//vBulletin 6//EN
VERSION:2.0
CALSCALE:GREGORIAN
BEGIN:VEVENT
UID:2c63cedf-2aca-4309-90e3-370aac378418
DTSTAMP:20260420T134309Z
SUMMARY:Kahoot! Quiz
DESCRIPTION:Location: Monero Vlg\n\nDiscord: https://discord.com/channels/7
 08208267699945503/732733510288408676\n\nEvent starts: 2020-08-08 16:30 (04
 :30 PM) PDT (UTC -07:00)\n\nEvent ends: 2020-08-08 17:00 (05:00 PM) PDT (U
 TC -07:00)\n\nFor the most up-to-date information\, please either visit ht
 tps://info.defcon.org\, or use HackerTracker\, which is available for iOS 
 and Android. This is an automated message\, and this data was last modifie
 d 2020-07-29T14:37 (UTC).
URL:https://forum.defcon.org/node/233992
DTSTART:20200809T003000Z
DTEND:20200809T010001Z
LOCATION:Monero Vlg
END:VEVENT
END:VCALENDAR
